BEGIN:VCALENDAR
VERSION:2.0
PRODID:-//Cristal Princeville - ECPv6.11.2//NONSGML v1.0//EN
CALSCALE:GREGORIAN
METHOD:PUBLISH
X-WR-CALNAME:Cristal Princeville
X-ORIGINAL-URL:https://cristalprinceville.ca
X-WR-CALDESC:Évènements pour Cristal Princeville
REFRESH-INTERVAL;VALUE=DURATION:PT1H
X-Robots-Tag:noindex
X-PUBLISHED-TTL:PT1H
BEGIN:VTIMEZONE
TZID:UTC
BEGIN:STANDARD
TZOFFSETFROM:+0000
TZOFFSETTO:+0000
TZNAME:UTC
DTSTART:20260101T000000
END:STANDARD
END:VTIMEZONE
BEGIN:VEVENT
DTSTART;TZID=UTC:20260703T190000
DTEND;TZID=UTC:20260703T190000
DTSTAMP:20260421T150238
CREATED:20260213T161818Z
LAST-MODIFIED:20260219T190047Z
UID:3415-1783105200-1783105200@cristalprinceville.ca
SUMMARY:Bingo!
DESCRIPTION:🎉 Soirée Bingo au camping ! 🎉 \nVenez passer une belle soirée remplie de plaisir et de rires lors de notre bingo !\nBeaux prix à gagner\, ambiance conviviale et plaisir garanti pour tous.
URL:https://cristalprinceville.ca/evenement/bingo-2/
ATTACH;FMTTYPE=image/avif:https://cristalprinceville.ca/wp-content/uploads/2026/02/bingo-piscine.avif
END:VEVENT
END:VCALENDAR